BEGIN:VCALENDAR
VERSION:2.0
PRODID:-//Edom ART Lab - ECPv6.15.20//NONSGML v1.0//EN
CALSCALE:GREGORIAN
METHOD:PUBLISH
X-WR-CALNAME:Edom ART Lab
X-ORIGINAL-URL:https://www.edomartlab.org
X-WR-CALDESC:Events for Edom ART Lab
REFRESH-INTERVAL;VALUE=DURATION:PT1H
X-Robots-Tag:noindex
X-PUBLISHED-TTL:PT1H
BEGIN:VTIMEZONE
TZID:UTC
BEGIN:STANDARD
TZOFFSETFROM:+0000
TZOFFSETTO:+0000
TZNAME:UTC
DTSTART:20230101T000000
END:STANDARD
END:VTIMEZONE
BEGIN:VEVENT
DTSTART;TZID=UTC:20260328T184500
DTEND;TZID=UTC:20260328T210000
DTSTAMP:20260421T225331
CREATED:20260309T174605Z
LAST-MODIFIED:20260313T004446Z
UID:1542-1774723500-1774731600@www.edomartlab.org
SUMMARY:The Art of Music Concert w/Sharon Blu Walker\, Julie Bonk & special guest Cornell Kinderknecht
DESCRIPTION:Don’t miss this! The Edom ART Lab 2026 Spring Semester Crew gets to jam with these incredible musicians on a new song!\n\n\n\nCornell Kinderknecht is a world-renowned woodwind artist\, recording professional\, & educator based in Dallas\, Texas. His career is defined by his mastery of world flutes & a unique musical style that blends classical\, folk\, & world influences. Beyond regular festival performances\, he has performed as a soloist at prestigious venues such as Carnegie Hall. Cornell’s 2019 album\, Into Stillness\, reached #7 on the Billboard New Age Albums chart. He is a winner of the Indian Summer Music Award (2014) & has twice been a finalist for “Musician of the Year” at the Texas Music Awards.\n\n\n\nJulie Bonk is a highly accomplished jazz and blues musician\, educator\, & composer based in Texas. Her career is distinguished by her work as a pianist\, her high-profile collaborations with legendary artists\, & her influence as a mentor to several award-winning artists\, most notably Nora Jones\, Scott Hoying & Mark G. Meadows. Julie has performed for three U.S. Presidents & played duets with President George H.W. Bush. Julie toured and recorded a Grammy-winning album with the Mexican rock band El Haragán.\n\n\n\nSharon Blu Walker\, also known as “Cadillac Blu\,” is an American roots singer\, songwriter\, & storyteller with a career spanning over six decades. Her work is characterized by a blend of classic country\, ’70s folk\, & original “American Roots” sounds.\n\n\n\n$20 Suggested Donation\n\n           Download QR
URL:https://www.edomartlab.org/event/the-art-of-music-concert-w-sharon-blu-walker-julie-bonk-special-guest-cornell-kinderknecht
LOCATION:8334 FM 279\, Edom\, TX\, 8334 FM 279\, Edom\, Texas\, TX\, 75754\, United States
END:VEVENT
BEGIN:VEVENT
DTSTART;TZID=UTC:20260201T123000
DTEND;TZID=UTC:20260201T143000
DTSTAMP:20260421T225331
CREATED:20260128T233346Z
LAST-MODIFIED:20260128T233459Z
UID:1534-1769949000-1769956200@www.edomartlab.org
SUMMARY:Private Event
DESCRIPTION:Reserved for a Private Party \n\n           Download QR
URL:https://www.edomartlab.org/event/private-event
LOCATION:TX
END:VEVENT
BEGIN:VEVENT
DTSTART;TZID=UTC:20260106T153000
DTEND;TZID=UTC:20260106T183000
DTSTAMP:20260421T225331
CREATED:20251114T230750Z
LAST-MODIFIED:20251114T231344Z
UID:1336-1767713400-1767724200@www.edomartlab.org
SUMMARY:First Day of Edom ART Lab's 2026 Spring Semester
DESCRIPTION:Orientation / Begin working on the Business Plan for the Semester \n\n           Download QR
URL:https://www.edomartlab.org/event/first-day-of-edom-art-labs-2026-spring-semester
LOCATION:8334 FM 279\, Edom\, TX\, 8334 FM 279\, Edom\, Texas\, TX\, 75754\, United States
END:VEVENT
BEGIN:VEVENT
DTSTART;TZID=UTC:20251206T170000
DTEND;TZID=UTC:20251206T183000
DTSTAMP:20260421T225331
CREATED:20250923T235230Z
LAST-MODIFIED:20251114T230540Z
UID:1131-1765040400-1765045800@www.edomartlab.org
SUMMARY:Edom Christmas Tree Lighting sponsored by Edom ART Lab
DESCRIPTION:Join us for games\, prizes\, storytelling\, and extra special musical performances\, while we’re waiting for Santa and Mrs. Claus to arrive via the Edom Volunteer Fire Department truck.  Photo opportunities afterwards in the Museum. \n\n           Download QR
URL:https://www.edomartlab.org/event/edom-christmas-tree-lighting
LOCATION:8334 FM 279\, Edom\, TX\, 8334 FM 279\, Edom\, Texas\, TX\, 75754\, United States
END:VEVENT
BEGIN:VEVENT
DTSTART;TZID=UTC:20251206T130000
DTEND;TZID=UTC:20251206T170000
DTSTAMP:20260421T225331
CREATED:20250923T233943Z
LAST-MODIFIED:20251114T230336Z
UID:1118-1765026000-1765040400@www.edomartlab.org
SUMMARY:FUNDRAISER - Holiday Gift Making Workshops for All Ages!
DESCRIPTION:Make gifts for those you love AND help us raise the funds we need to get up and running! That will make your gifts count TWICE! \n\n           Download QR
URL:https://www.edomartlab.org/event/holiday-gift-making-workshops-for-all-ages
LOCATION:8334 FM 279\, Edom\, TX\, 8334 FM 279\, Edom\, Texas\, TX\, 75754\, United States
END:VEVENT
BEGIN:VEVENT
DTSTART;TZID=UTC:20251129T130000
DTEND;TZID=UTC:20251129T170000
DTSTAMP:20260421T225331
CREATED:20250923T235134Z
LAST-MODIFIED:20251114T230259Z
UID:1129-1764421200-1764435600@www.edomartlab.org
SUMMARY:FUNDRAISER - Holiday Gift Making Workshops for All Ages!
DESCRIPTION:Make gifts for those you love AND help us raise the funds we need to get up and running! That will make your gifts count TWICE! \n\n           Download QR
URL:https://www.edomartlab.org/event/holiday-gift-making-workshops-for-all-ages-5
LOCATION:8334 FM 279\, Edom\, TX\, 8334 FM 279\, Edom\, Texas\, TX\, 75754\, United States
END:VEVENT
BEGIN:VEVENT
DTSTART;TZID=UTC:20251122T130000
DTEND;TZID=UTC:20251122T170000
DTSTAMP:20260421T225331
CREATED:20250923T235052Z
LAST-MODIFIED:20251114T230207Z
UID:1127-1763816400-1763830800@www.edomartlab.org
SUMMARY:FUNDRAISER - Holiday Gift Making Workshops for All Ages!
DESCRIPTION:Make gifts for those you love AND help us raise the funds we need to get up and running! That will make your gifts count TWICE! \n\n           Download QR
URL:https://www.edomartlab.org/event/holiday-gift-making-workshops-for-all-ages-4
LOCATION:8334 FM 279\, Edom\, TX\, 8334 FM 279\, Edom\, Texas\, TX\, 75754\, United States
END:VEVENT
BEGIN:VEVENT
DTSTART;TZID=UTC:20251115T130000
DTEND;TZID=UTC:20251115T170000
DTSTAMP:20260421T225331
CREATED:20250923T234643Z
LAST-MODIFIED:20251114T230128Z
UID:1125-1763211600-1763226000@www.edomartlab.org
SUMMARY:FUNDRAISER - Holiday Gift Making Workshops for All Ages!
DESCRIPTION:Make gifts for those you love AND help us raise the funds we need to get up and running! That will make your gifts count TWICE! \n\n           Download QR
URL:https://www.edomartlab.org/event/holiday-gift-making-workshops-for-all-ages-3
LOCATION:8334 FM 279\, Edom\, TX\, 8334 FM 279\, Edom\, Texas\, TX\, 75754\, United States
END:VEVENT
BEGIN:VEVENT
DTSTART;TZID=UTC:20251108T100000
DTEND;TZID=UTC:20251108T140000
DTSTAMP:20260421T225331
CREATED:20250923T234500Z
LAST-MODIFIED:20250923T234829Z
UID:1123-1762596000-1762610400@www.edomartlab.org
SUMMARY:Holiday Gift Making Workshops for All Ages!
DESCRIPTION:Download QR
URL:https://www.edomartlab.org/event/holiday-gift-making-workshops-for-all-ages-2
LOCATION:8334 FM 279\, Edom\, TX\, 8334 FM 279\, Edom\, Texas\, TX\, 75754\, United States
END:VEVENT
BEGIN:VEVENT
DTSTART;VALUE=DATE:20251011
DTEND;VALUE=DATE:20251013
DTSTAMP:20260421T225331
CREATED:20250923T232816Z
LAST-MODIFIED:20250923T234340Z
UID:1113-1760140800-1760313599@www.edomartlab.org
SUMMARY:Kid's Creation Station at the Edom Art Festival
DESCRIPTION:Download QR
URL:https://www.edomartlab.org/event/hosting-the-kids-creation-station-at-the-edom-art-festival
LOCATION:Fair Grounds in Front of Red Barn Building\, 8334 FM 279\, Edom\, Texas\, 75754\, United States
END:VEVENT
BEGIN:VEVENT
DTSTART;TZID=UTC:20250927T100000
DTEND;TZID=UTC:20250927T140000
DTSTAMP:20260421T225331
CREATED:20250923T232713Z
LAST-MODIFIED:20250923T234101Z
UID:1109-1758967200-1758981600@www.edomartlab.org
SUMMARY:Puppet Making Day
DESCRIPTION:Download QR
URL:https://www.edomartlab.org/event/puppet-making-day
LOCATION:8334 FM 279\, Edom\, TX\, 8334 FM 279\, Edom\, Texas\, TX\, 75754\, United States
END:VEVENT
BEGIN:VEVENT
DTSTART;TZID=UTC:20250920T100000
DTEND;TZID=UTC:20250920T140000
DTSTAMP:20260421T225331
CREATED:20250923T232443Z
LAST-MODIFIED:20250923T232443Z
UID:1103-1758362400-1758376800@www.edomartlab.org
SUMMARY:'Spruce Up' Day
DESCRIPTION:Download QR
URL:https://www.edomartlab.org/event/spruce-up-day
LOCATION:8334 FM 279\, Edom\, TX\, 8334 FM 279\, Edom\, Texas\, TX\, 75754\, United States
END:VEVENT
BEGIN:VEVENT
DTSTART;TZID=UTC:20241207T170000
DTEND;TZID=UTC:20241207T180000
DTSTAMP:20260421T225331
CREATED:20241118T184706Z
LAST-MODIFIED:20241118T184706Z
UID:796-1733590800-1733594400@www.edomartlab.org
SUMMARY:Puppet Show at Edom Christmas Tree Lighting Ceremony
DESCRIPTION:Download QR
URL:https://www.edomartlab.org/event/puppet-show-at-edom-christmas-tree-lighting-ceremony
LOCATION:Edom Historical Society Museum\, Hwy 279\, Edom\, Texas\, 75754
END:VEVENT
BEGIN:VEVENT
DTSTART;TZID=UTC:20241013T100000
DTEND;TZID=UTC:20241013T170000
DTSTAMP:20260421T225331
CREATED:20240928T171906Z
LAST-MODIFIED:20250926T160522Z
UID:483-1728813600-1728838800@www.edomartlab.org
SUMMARY:Edom Art Festival - We're sponsoring a Puppet Theatre!
DESCRIPTION:JOIN US!  It’s going to be so much fun! \n\n           Download QR
URL:https://www.edomartlab.org/event/edom-art-festival-were-sponsoring-a-puppet-theatre-2
LOCATION:Fair Grounds in Front of Red Barn Building\, 8334 FM 279\, Edom\, Texas\, 75754\, United States
END:VEVENT
BEGIN:VEVENT
DTSTART;TZID=UTC:20241012T100000
DTEND;TZID=UTC:20241012T170000
DTSTAMP:20260421T225331
CREATED:20240928T171511Z
LAST-MODIFIED:20250926T160444Z
UID:481-1728727200-1728752400@www.edomartlab.org
SUMMARY:Edom Art Festival - We're sponsoring a Puppet Theatre!
DESCRIPTION:JOIN US!  It’s going to be so much fun! \n\n           Download QR
URL:https://www.edomartlab.org/event/edom-art-festival-were-sponsoring-a-puppet-theatre
LOCATION:Fair Grounds in Front of Red Barn Building\, 8334 FM 279\, Edom\, Texas\, 75754\, United States
END:VEVENT
END:VCALENDAR