BEGIN:VCALENDAR
VERSION:2.0
PRODID:-//Edom ART Lab - ECPv6.15.20//NONSGML v1.0//EN
CALSCALE:GREGORIAN
METHOD:PUBLISH
X-ORIGINAL-URL:https://www.edomartlab.org
X-WR-CALDESC:Events for Edom ART Lab
REFRESH-INTERVAL;VALUE=DURATION:PT1H
X-Robots-Tag:noindex
X-PUBLISHED-TTL:PT1H
BEGIN:VTIMEZONE
TZID:UTC
BEGIN:STANDARD
TZOFFSETFROM:+0000
TZOFFSETTO:+0000
TZNAME:UTC
DTSTART:20250101T000000
END:STANDARD
END:VTIMEZONE
BEGIN:VEVENT
DTSTART;TZID=UTC:20260502T140000
DTEND;TZID=UTC:20260502T140000
DTSTAMP:20260421T114128
CREATED:20260128T215624Z
LAST-MODIFIED:20260330T160558Z
UID:1501-1777730400-1777730400@www.edomartlab.org
SUMMARY:The Puppet-Show Man by Hans Christian Andersen
DESCRIPTION:“The Puppet-Show Man” is a story about a cheerful puppet theatre owner who learns valuable lessons about happiness\, creativity\, and contentment through a magical encounter that brings his puppets to life. \n\n           Download QR
URL:https://www.edomartlab.org/event/the-puppet-show-man-by-hans-christian-andersen
LOCATION:8334 FM 279\, Edom\, TX\, 8334 FM 279\, Edom\, Texas\, TX\, 75754\, United States
ORGANIZER;CN="Edom ART Lab":MAILTO:admin@edomartlab.org
END:VEVENT
BEGIN:VEVENT
DTSTART;TZID=UTC:20260503T140000
DTEND;TZID=UTC:20260503T140000
DTSTAMP:20260421T114128
CREATED:20260128T220132Z
LAST-MODIFIED:20260416T135200Z
UID:1504-1777816800-1777816800@www.edomartlab.org
SUMMARY:The Puppet-Show Man by Hans Christian Andersen
DESCRIPTION:“The Puppet-Show Man” is a story about a cheerful puppet theatre owner who learns valuable lessons about happiness\, creativity\, and contentment through a magical encounter that brings his puppets to life. \n\n           Download QR
URL:https://www.edomartlab.org/event/the-puppet-show-man-by-hans-christian-andersen-2
LOCATION:8334 FM 279\, Edom\, TX\, 8334 FM 279\, Edom\, Texas\, TX\, 75754\, United States
ORGANIZER;CN="Edom ART Lab":MAILTO:admin@edomartlab.org
END:VEVENT
BEGIN:VEVENT
DTSTART;TZID=UTC:20260508T180000
DTEND;TZID=UTC:20260508T180000
DTSTAMP:20260421T114128
CREATED:20260128T220922Z
LAST-MODIFIED:20260416T135245Z
UID:1508-1778263200-1778263200@www.edomartlab.org
SUMMARY:Art Gallery Opening with Live Demonstrations
DESCRIPTION:Download QR
URL:https://www.edomartlab.org/event/gallery-opening-with-live-demonstrations
LOCATION:8334 FM 279\, Edom\, TX\, 8334 FM 279\, Edom\, Texas\, TX\, 75754\, United States
ORGANIZER;CN="Edom ART Lab":MAILTO:admin@edomartlab.org
END:VEVENT
BEGIN:VEVENT
DTSTART;TZID=UTC:20260509T140000
DTEND;TZID=UTC:20260509T140000
DTSTAMP:20260421T114128
CREATED:20260128T221529Z
LAST-MODIFIED:20260416T135328Z
UID:1511-1778335200-1778335200@www.edomartlab.org
SUMMARY:The Puppet-Show Man by Hans Christian Andersen
DESCRIPTION:“The Puppet-Show Man” is a story about a cheerful puppet theatre owner who learns valuable lessons about happiness\, creativity\, and contentment through a magical encounter that brings his puppets to life. \n\n           Download QR
URL:https://www.edomartlab.org/event/the-puppet-show-man-by-hans-christian-andersen-3
LOCATION:8334 FM 279\, Edom\, TX\, 8334 FM 279\, Edom\, Texas\, TX\, 75754\, United States
ORGANIZER;CN="Edom ART Lab":MAILTO:admin@edomartlab.org
END:VEVENT
BEGIN:VEVENT
DTSTART;TZID=UTC:20260516T140000
DTEND;TZID=UTC:20260516T140000
DTSTAMP:20260421T114128
CREATED:20260128T222300Z
LAST-MODIFIED:20260416T134820Z
UID:1514-1778940000-1778940000@www.edomartlab.org
SUMMARY:The Puppet-Show Man by Hans Christian Andersen
DESCRIPTION:“The Puppet-Show Man” is a story about a cheerful puppet theatre owner who learns valuable lessons about happiness\, creativity\, and contentment through a magical encounter that brings his puppets to life. \n\n           Download QR
URL:https://www.edomartlab.org/event/the-puppet-show-man-by-hans-christian-andersen-4
LOCATION:8334 FM 279\, Edom\, TX\, 8334 FM 279\, Edom\, Texas\, TX\, 75754\, United States
ORGANIZER;CN="Edom ART Lab":MAILTO:admin@edomartlab.org
END:VEVENT
BEGIN:VEVENT
DTSTART;TZID=UTC:20260517T140000
DTEND;TZID=UTC:20260517T140000
DTSTAMP:20260421T114128
CREATED:20260128T222841Z
LAST-MODIFIED:20260416T135034Z
UID:1516-1779026400-1779026400@www.edomartlab.org
SUMMARY:The Puppet-Show Man by Hans Christian Andersen
DESCRIPTION:“The Puppet-Show Man” is a story about a cheerful puppet theatre owner who learns valuable lessons about happiness\, creativity\, and contentment through a magical encounter that brings his puppets to life. \n\n           Download QR
URL:https://www.edomartlab.org/event/the-puppet-show-man-by-hans-christian-andersen-5
LOCATION:8334 FM 279\, Edom\, TX\, 8334 FM 279\, Edom\, Texas\, TX\, 75754\, United States
ORGANIZER;CN="Edom ART Lab":MAILTO:admin@edomartlab.org
END:VEVENT
END:VCALENDAR