BEGIN:VCALENDAR
VERSION:2.0
PRODID:-//Edom ART Lab - ECPv6.15.20//NONSGML v1.0//EN
CALSCALE:GREGORIAN
METHOD:PUBLISH
X-WR-CALNAME:Edom ART Lab
X-ORIGINAL-URL:https://www.edomartlab.org
X-WR-CALDESC:Events for Edom ART Lab
REFRESH-INTERVAL;VALUE=DURATION:PT1H
X-Robots-Tag:noindex
X-PUBLISHED-TTL:PT1H
BEGIN:VTIMEZONE
TZID:UTC
BEGIN:STANDARD
TZOFFSETFROM:+0000
TZOFFSETTO:+0000
TZNAME:UTC
DTSTART:20230101T000000
END:STANDARD
END:VTIMEZONE
BEGIN:VEVENT
DTSTART;TZID=UTC:20241012T100000
DTEND;TZID=UTC:20241012T170000
DTSTAMP:20260422T003357
CREATED:20240928T171511Z
LAST-MODIFIED:20250926T160444Z
UID:481-1728727200-1728752400@www.edomartlab.org
SUMMARY:Edom Art Festival - We're sponsoring a Puppet Theatre!
DESCRIPTION:JOIN US!  It’s going to be so much fun! \n\n           Download QR
URL:https://www.edomartlab.org/event/edom-art-festival-were-sponsoring-a-puppet-theatre
LOCATION:Fair Grounds in Front of Red Barn Building\, 8334 FM 279\, Edom\, Texas\, 75754\, United States
END:VEVENT
END:VCALENDAR